BEGIN:VCALENDAR
VERSION:2.0
PRODID:-//Galway Rotary Club - ECPv6.15.20//NONSGML v1.0//EN
CALSCALE:GREGORIAN
METHOD:PUBLISH
X-WR-CALNAME:Galway Rotary Club
X-ORIGINAL-URL:https://galwayrotary.org
X-WR-CALDESC:Events for Galway Rotary Club
REFRESH-INTERVAL;VALUE=DURATION:PT1H
X-Robots-Tag:noindex
X-PUBLISHED-TTL:PT1H
BEGIN:VTIMEZONE
TZID:America/New_York
BEGIN:DAYLIGHT
TZOFFSETFROM:-0500
TZOFFSETTO:-0400
TZNAME:EDT
DTSTART:20220313T070000
END:DAYLIGHT
BEGIN:STANDARD
TZOFFSETFROM:-0400
TZOFFSETTO:-0500
TZNAME:EST
DTSTART:20221106T060000
END:STANDARD
BEGIN:DAYLIGHT
TZOFFSETFROM:-0500
TZOFFSETTO:-0400
TZNAME:EDT
DTSTART:20230312T070000
END:DAYLIGHT
BEGIN:STANDARD
TZOFFSETFROM:-0400
TZOFFSETTO:-0500
TZNAME:EST
DTSTART:20231105T060000
END:STANDARD
BEGIN:DAYLIGHT
TZOFFSETFROM:-0500
TZOFFSETTO:-0400
TZNAME:EDT
DTSTART:20240310T070000
END:DAYLIGHT
BEGIN:STANDARD
TZOFFSETFROM:-0400
TZOFFSETTO:-0500
TZNAME:EST
DTSTART:20241103T060000
END:STANDARD
BEGIN:DAYLIGHT
TZOFFSETFROM:-0500
TZOFFSETTO:-0400
TZNAME:EDT
DTSTART:20250309T070000
END:DAYLIGHT
BEGIN:STANDARD
TZOFFSETFROM:-0400
TZOFFSETTO:-0500
TZNAME:EST
DTSTART:20251102T060000
END:STANDARD
BEGIN:DAYLIGHT
TZOFFSETFROM:-0500
TZOFFSETTO:-0400
TZNAME:EDT
DTSTART:20260308T070000
END:DAYLIGHT
BEGIN:STANDARD
TZOFFSETFROM:-0400
TZOFFSETTO:-0500
TZNAME:EST
DTSTART:20261101T060000
END:STANDARD
BEGIN:DAYLIGHT
TZOFFSETFROM:-0500
TZOFFSETTO:-0400
TZNAME:EDT
DTSTART:20270314T070000
END:DAYLIGHT
BEGIN:STANDARD
TZOFFSETFROM:-0400
TZOFFSETTO:-0500
TZNAME:EST
DTSTART:20271107T060000
END:STANDARD
END:VTIMEZONE
BEGIN:VEVENT
DTSTART;TZID=America/New_York:20260401T173000
DTEND;TZID=America/New_York:20260401T183000
DTSTAMP:20260422T112554
CREATED:20260313T200933Z
LAST-MODIFIED:20260313T200933Z
UID:875-1775064600-1775068200@galwayrotary.org
SUMMARY:April 2026 Meeting
DESCRIPTION:
URL:https://galwayrotary.org/event/april-2026-meeting/
LOCATION:The Galway Local\, 5306 Sacandaga Rd\, Galway\, NY\, 12074\, United States
CATEGORIES:meeting
END:VEVENT
BEGIN:VEVENT
DTSTART;TZID=America/New_York:20260107T173000
DTEND;TZID=America/New_York:20260107T183000
DTSTAMP:20260422T112554
CREATED:20251030T131056Z
LAST-MODIFIED:20251030T131056Z
UID:840-1767807000-1767810600@galwayrotary.org
SUMMARY:January 2026 Meeting
DESCRIPTION:
URL:https://galwayrotary.org/event/january-2026-meeting/
LOCATION:The Galway Local\, 5306 Sacandaga Rd\, Galway\, NY\, 12074\, United States
CATEGORIES:meeting
END:VEVENT
BEGIN:VEVENT
DTSTART;TZID=America/New_York:20251203T173000
DTEND;TZID=America/New_York:20251203T183000
DTSTAMP:20260422T112554
CREATED:20251030T131010Z
LAST-MODIFIED:20251030T131010Z
UID:838-1764783000-1764786600@galwayrotary.org
SUMMARY:December 2025 Meeting
DESCRIPTION:
URL:https://galwayrotary.org/event/december-2025-meeting/
LOCATION:The Galway Local\, 5306 Sacandaga Rd\, Galway\, NY\, 12074\, United States
CATEGORIES:meeting
END:VEVENT
BEGIN:VEVENT
DTSTART;TZID=America/New_York:20251105T173000
DTEND;TZID=America/New_York:20251105T183000
DTSTAMP:20260422T112554
CREATED:20251030T130935Z
LAST-MODIFIED:20251030T130935Z
UID:836-1762363800-1762367400@galwayrotary.org
SUMMARY:November 2025 Meeting
DESCRIPTION:
URL:https://galwayrotary.org/event/november-2025-meeting/
LOCATION:The Galway Local\, 5306 Sacandaga Rd\, Galway\, NY\, 12074\, United States
CATEGORIES:meeting
END:VEVENT
BEGIN:VEVENT
DTSTART;TZID=America/New_York:20251001T173000
DTEND;TZID=America/New_York:20251001T183000
DTSTAMP:20260422T112554
CREATED:20250725T131814Z
LAST-MODIFIED:20250725T131814Z
UID:822-1759339800-1759343400@galwayrotary.org
SUMMARY:October 2025 Meeting
DESCRIPTION:
URL:https://galwayrotary.org/event/october-2025-meeting/
LOCATION:The Galway Local\, 5306 Sacandaga Rd\, Galway\, NY\, 12074\, United States
CATEGORIES:meeting
END:VEVENT
BEGIN:VEVENT
DTSTART;TZID=America/New_York:20250903T173000
DTEND;TZID=America/New_York:20250903T183000
DTSTAMP:20260422T112554
CREATED:20250725T131735Z
LAST-MODIFIED:20250725T131735Z
UID:820-1756920600-1756924200@galwayrotary.org
SUMMARY:September 2025 Meeting
DESCRIPTION:
URL:https://galwayrotary.org/event/september-2025-meeting/
LOCATION:The Galway Local\, 5306 Sacandaga Rd\, Galway\, NY\, 12074\, United States
CATEGORIES:meeting
END:VEVENT
BEGIN:VEVENT
DTSTART;TZID=America/New_York:20250806T173000
DTEND;TZID=America/New_York:20250806T183000
DTSTAMP:20260422T112554
CREATED:20250725T131649Z
LAST-MODIFIED:20250725T131649Z
UID:817-1754501400-1754505000@galwayrotary.org
SUMMARY:August 2025 Meeting
DESCRIPTION:
URL:https://galwayrotary.org/event/august-2025-meeting/
LOCATION:The Galway Local\, 5306 Sacandaga Rd\, Galway\, NY\, 12074\, United States
CATEGORIES:meeting
END:VEVENT
BEGIN:VEVENT
DTSTART;TZID=America/New_York:20250702T190000
DTEND;TZID=America/New_York:20250702T200000
DTSTAMP:20260422T112554
CREATED:20250108T214906Z
LAST-MODIFIED:20250108T214906Z
UID:668-1751482800-1751486400@galwayrotary.org
SUMMARY:July 2025 Meeting
DESCRIPTION:
URL:https://galwayrotary.org/event/july-2025-meeting/
LOCATION:Galway Town Hall\, 5910 Sacandaga Rd\, Galway\, NY\, 12074\, United States
CATEGORIES:meeting
END:VEVENT
BEGIN:VEVENT
DTSTART;TZID=America/New_York:20250604T190000
DTEND;TZID=America/New_York:20250604T200000
DTSTAMP:20260422T112554
CREATED:20250108T174652Z
LAST-MODIFIED:20250108T174652Z
UID:661-1749063600-1749067200@galwayrotary.org
SUMMARY:June 2025 Meeting
DESCRIPTION:
URL:https://galwayrotary.org/event/june-2025-meeting/
LOCATION:Galway Town Hall\, 5910 Sacandaga Rd\, Galway\, NY\, 12074\, United States
CATEGORIES:meeting
END:VEVENT
BEGIN:VEVENT
DTSTART;TZID=America/New_York:20250507T190000
DTEND;TZID=America/New_York:20250507T200000
DTSTAMP:20260422T112554
CREATED:20250108T174612Z
LAST-MODIFIED:20250108T174612Z
UID:659-1746644400-1746648000@galwayrotary.org
SUMMARY:May 2025 Meeting
DESCRIPTION:
URL:https://galwayrotary.org/event/may-2025-meeting/
LOCATION:Galway Town Hall\, 5910 Sacandaga Rd\, Galway\, NY\, 12074\, United States
CATEGORIES:meeting
END:VEVENT
BEGIN:VEVENT
DTSTART;TZID=America/New_York:20250402T190000
DTEND;TZID=America/New_York:20250402T200000
DTSTAMP:20260422T112554
CREATED:20250108T174533Z
LAST-MODIFIED:20250108T174533Z
UID:657-1743620400-1743624000@galwayrotary.org
SUMMARY:April 2025 Meeting
DESCRIPTION:
URL:https://galwayrotary.org/event/april-2025-meeting/
LOCATION:Galway Town Hall\, 5910 Sacandaga Rd\, Galway\, NY\, 12074\, United States
CATEGORIES:meeting
END:VEVENT
BEGIN:VEVENT
DTSTART;TZID=America/New_York:20250305T190000
DTEND;TZID=America/New_York:20250305T200000
DTSTAMP:20260422T112554
CREATED:20250108T174445Z
LAST-MODIFIED:20250108T174457Z
UID:655-1741201200-1741204800@galwayrotary.org
SUMMARY:March 2025 Meeting
DESCRIPTION:
URL:https://galwayrotary.org/event/march-2025-meeting/
LOCATION:Galway Town Hall\, 5910 Sacandaga Rd\, Galway\, NY\, 12074\, United States
CATEGORIES:meeting
END:VEVENT
BEGIN:VEVENT
DTSTART;TZID=America/New_York:20250205T190000
DTEND;TZID=America/New_York:20250205T200000
DTSTAMP:20260422T112554
CREATED:20250108T174410Z
LAST-MODIFIED:20250108T174410Z
UID:653-1738782000-1738785600@galwayrotary.org
SUMMARY:February 2025 Meeting
DESCRIPTION:
URL:https://galwayrotary.org/event/february-2025-meeting/
LOCATION:Galway Town Hall\, 5910 Sacandaga Rd\, Galway\, NY\, 12074\, United States
CATEGORIES:meeting
END:VEVENT
BEGIN:VEVENT
DTSTART;TZID=America/New_York:20241204T190000
DTEND;TZID=America/New_York:20241204T200000
DTSTAMP:20260422T112554
CREATED:20240701T213854Z
LAST-MODIFIED:20240701T213854Z
UID:572-1733338800-1733342400@galwayrotary.org
SUMMARY:December 2024 Meeting
DESCRIPTION:
URL:https://galwayrotary.org/event/december-2024-meeting/
LOCATION:Galway Town Hall\, 5910 Sacandaga Rd\, Galway\, NY\, 12074\, United States
CATEGORIES:meeting
END:VEVENT
BEGIN:VEVENT
DTSTART;TZID=America/New_York:20241106T190000
DTEND;TZID=America/New_York:20241106T200000
DTSTAMP:20260422T112554
CREATED:20240701T213623Z
LAST-MODIFIED:20240701T214001Z
UID:567-1730919600-1730923200@galwayrotary.org
SUMMARY:November 2024 Meeting
DESCRIPTION:
URL:https://galwayrotary.org/event/november-2024-meeting/
LOCATION:Galway Town Hall\, 5910 Sacandaga Rd\, Galway\, NY\, 12074\, United States
CATEGORIES:meeting
END:VEVENT
BEGIN:VEVENT
DTSTART;TZID=America/New_York:20240904T190000
DTEND;TZID=America/New_York:20240904T200000
DTSTAMP:20260422T112554
CREATED:20240701T211111Z
LAST-MODIFIED:20240701T211301Z
UID:563-1725476400-1725480000@galwayrotary.org
SUMMARY:September 2024 Meeting
DESCRIPTION:
URL:https://galwayrotary.org/event/september-2024-meeting/
LOCATION:Galway Town Hall\, 5910 Sacandaga Rd\, Galway\, NY\, 12074\, United States
CATEGORIES:meeting
END:VEVENT
BEGIN:VEVENT
DTSTART;TZID=America/New_York:20240807T190000
DTEND;TZID=America/New_York:20240807T200000
DTSTAMP:20260422T112554
CREATED:20240701T211032Z
LAST-MODIFIED:20240710T225902Z
UID:561-1723057200-1723060800@galwayrotary.org
SUMMARY:August 2024 Meeting
DESCRIPTION:We meet the first Wednesday of the month at the Galway Town Hall at 7pm \nZoom https://us02web.zoom.us/j/84558401498?pwd=TGhTSlI0WExTYUw0NlVSZFJHSzFJdz09 \n  \n 
URL:https://galwayrotary.org/event/august-2024-meeting/
LOCATION:Galway Town Hall\, 5910 Sacandaga Rd\, Galway\, NY\, 12074\, United States
CATEGORIES:meeting
END:VEVENT
BEGIN:VEVENT
DTSTART;TZID=America/New_York:20240710T190000
DTEND;TZID=America/New_York:20240710T200000
DTSTAMP:20260422T112554
CREATED:20240308T202550Z
LAST-MODIFIED:20240710T225732Z
UID:493-1720638000-1720641600@galwayrotary.org
SUMMARY:July 2024 Meeting
DESCRIPTION:Rescheduled due to the holiday – Rescheduled again due to weather\, Zoom meeting https://us02web.zoom.us/j/84558401498?pwd=TGhTSlI0WExTYUw0NlVSZFJHSzFJdz09 \nJoin us on the 1st Wednesday of the month for the Galway Rotary Club meeting.
URL:https://galwayrotary.org/event/july-2024-meeting/
LOCATION:Galway Town Hall\, 5910 Sacandaga Rd\, Galway\, NY\, 12074\, United States
CATEGORIES:meeting
END:VEVENT
BEGIN:VEVENT
DTSTART;TZID=America/New_York:20240612T190000
DTEND;TZID=America/New_York:20240612T200000
DTSTAMP:20260422T112554
CREATED:20240308T202448Z
LAST-MODIFIED:20240605T140143Z
UID:491-1718218800-1718222400@galwayrotary.org
SUMMARY:June 2024 Meeting
DESCRIPTION:Rescheduled due to events in Saratoga
URL:https://galwayrotary.org/event/june-2024-meeting/
LOCATION:Galway Town Hall\, 5910 Sacandaga Rd\, Galway\, NY\, 12074\, United States
CATEGORIES:meeting
END:VEVENT
BEGIN:VEVENT
DTSTART;TZID=America/New_York:20240501T190000
DTEND;TZID=America/New_York:20240501T200000
DTSTAMP:20260422T112554
CREATED:20240308T202405Z
LAST-MODIFIED:20240308T202405Z
UID:489-1714590000-1714593600@galwayrotary.org
SUMMARY:May 2024 Meeting
DESCRIPTION:Join us on the 1st Wednesday of the month for the Galway Rotary Club meeting.
URL:https://galwayrotary.org/event/may-2024-meeting/
LOCATION:Galway Town Hall\, 5910 Sacandaga Rd\, Galway\, NY\, 12074\, United States
CATEGORIES:meeting
END:VEVENT
BEGIN:VEVENT
DTSTART;TZID=America/New_York:20240403T190000
DTEND;TZID=America/New_York:20240403T200000
DTSTAMP:20260422T112554
CREATED:20231208T135838Z
LAST-MODIFIED:20231208T140855Z
UID:471-1712170800-1712174400@galwayrotary.org
SUMMARY:April Meeting 2024
DESCRIPTION:
URL:https://galwayrotary.org/event/april-meeting-2024/
LOCATION:Galway Town Hall\, 5910 Sacandaga Rd\, Galway\, NY\, 12074\, United States
CATEGORIES:meeting
ATTACH;FMTTYPE=image/jpeg:https://galwayrotary.org/wp-content/uploads/2023/12/galway-rotary-invite-3-1.jpg
END:VEVENT
BEGIN:VEVENT
DTSTART;TZID=America/New_York:20240306T190000
DTEND;TZID=America/New_York:20240306T200000
DTSTAMP:20260422T112554
CREATED:20231208T135657Z
LAST-MODIFIED:20231208T140628Z
UID:469-1709751600-1709755200@galwayrotary.org
SUMMARY:March Club Meeting 2024
DESCRIPTION:
URL:https://galwayrotary.org/event/march-club-meeting-2024/
LOCATION:Galway Town Hall\, 5910 Sacandaga Rd\, Galway\, NY\, 12074\, United States
CATEGORIES:meeting
ATTACH;FMTTYPE=image/jpeg:https://galwayrotary.org/wp-content/uploads/2023/12/galway-rotary-invite-3.jpg
END:VEVENT
BEGIN:VEVENT
DTSTART;TZID=America/New_York:20240207T190000
DTEND;TZID=America/New_York:20240207T200000
DTSTAMP:20260422T112554
CREATED:20231208T135608Z
LAST-MODIFIED:20231208T140820Z
UID:467-1707332400-1707336000@galwayrotary.org
SUMMARY:February Club Meeting 2024
DESCRIPTION:
URL:https://galwayrotary.org/event/february-club-meeting-2024/
LOCATION:Galway Town Hall\, 5910 Sacandaga Rd\, Galway\, NY\, 12074\, United States
CATEGORIES:meeting
ATTACH;FMTTYPE=image/jpeg:https://galwayrotary.org/wp-content/uploads/2023/12/galway-rotary-invite-3-1.jpg
END:VEVENT
BEGIN:VEVENT
DTSTART;TZID=America/New_York:20231004T190000
DTEND;TZID=America/New_York:20231004T200000
DTSTAMP:20260422T112554
CREATED:20230712T124645Z
LAST-MODIFIED:20230712T124718Z
UID:399-1696446000-1696449600@galwayrotary.org
SUMMARY:October 2023 Meeting
DESCRIPTION:
URL:https://galwayrotary.org/event/october-2023-meeting/
LOCATION:Galway Town Hall\, 5910 Sacandaga Rd\, Galway\, NY\, 12074\, United States
CATEGORIES:meeting
END:VEVENT
BEGIN:VEVENT
DTSTART;TZID=America/New_York:20230906T190000
DTEND;TZID=America/New_York:20230906T200000
DTSTAMP:20260422T112554
CREATED:20230712T124553Z
LAST-MODIFIED:20230712T124553Z
UID:397-1694026800-1694030400@galwayrotary.org
SUMMARY:September 2023 Meeting
DESCRIPTION:
URL:https://galwayrotary.org/event/september-2023-meeting/
LOCATION:Galway Town Hall\, 5910 Sacandaga Rd\, Galway\, NY\, 12074\, United States
CATEGORIES:meeting
END:VEVENT
BEGIN:VEVENT
DTSTART;TZID=America/New_York:20230803T190000
DTEND;TZID=America/New_York:20230803T200000
DTSTAMP:20260422T112554
CREATED:20230712T124510Z
LAST-MODIFIED:20230712T124510Z
UID:395-1691089200-1691092800@galwayrotary.org
SUMMARY:August 2023 Meeting
DESCRIPTION:Galway Town Hall 5910 Sacandaga Rd\, Galway\, NY\, United States
URL:https://galwayrotary.org/event/august-2023-meeting/
LOCATION:Galway Town Hall\, 5910 Sacandaga Rd\, Galway\, NY\, 12074\, United States
CATEGORIES:meeting
END:VEVENT
BEGIN:VEVENT
DTSTART;TZID=America/New_York:20230712T190000
DTEND;TZID=America/New_York:20230712T200000
DTSTAMP:20260422T112554
CREATED:20230315T181713Z
LAST-MODIFIED:20230515T235454Z
UID:271-1689188400-1689192000@galwayrotary.org
SUMMARY:July  Meeting
DESCRIPTION:Tentative – we may reschedule due to the holiday
URL:https://galwayrotary.org/event/july-meeting/
LOCATION:Galway Town Hall\, 5910 Sacandaga Rd\, Galway\, NY\, 12074\, United States
CATEGORIES:meeting
END:VEVENT
BEGIN:VEVENT
DTSTART;TZID=America/New_York:20230503T190000
DTEND;TZID=America/New_York:20230503T200000
DTSTAMP:20260422T112554
CREATED:20230315T181610Z
LAST-MODIFIED:20230315T181738Z
UID:269-1683140400-1683144000@galwayrotary.org
SUMMARY:May Meeting
DESCRIPTION:
URL:https://galwayrotary.org/event/may-meeting/
LOCATION:Galway Town Hall\, 5910 Sacandaga Rd\, Galway\, NY\, 12074\, United States
CATEGORIES:meeting
END:VEVENT
BEGIN:VEVENT
DTSTART;TZID=America/New_York:20230405T190000
DTEND;TZID=America/New_York:20230405T203000
DTSTAMP:20260422T112554
CREATED:20230315T181239Z
LAST-MODIFIED:20230315T181744Z
UID:262-1680721200-1680726600@galwayrotary.org
SUMMARY:April Meeting
DESCRIPTION:We will gather at the Galway High School to pack backpacks for the students on the Galway Backpack program for spring break.
URL:https://galwayrotary.org/event/april-meeting/
LOCATION:Galway High School\, 5317 Sacandaga Rd\, Galway\, NY\, 12074\, United States
CATEGORIES:meeting
END:VEVENT
BEGIN:VEVENT
DTSTART;TZID=America/New_York:20230301T190000
DTEND;TZID=America/New_York:20230301T203000
DTSTAMP:20260422T112554
CREATED:20221103T151732Z
LAST-MODIFIED:20221103T151732Z
UID:244-1677697200-1677702600@galwayrotary.org
SUMMARY:March Rotary Meeting
DESCRIPTION:
URL:https://galwayrotary.org/event/march-rotary-meeting/
LOCATION:Galway Town Hall\, 5910 Sacandaga Rd\, Galway\, NY\, 12074\, United States
CATEGORIES:meeting
ATTACH;FMTTYPE=image/png:https://galwayrotary.org/wp-content/uploads/2022/08/galway-rotary-invite2.png
END:VEVENT
END:VCALENDAR