BEGIN:VCALENDAR
VERSION:2.0
PRODID:-//Galway Rotary Club - ECPv6.15.20//NONSGML v1.0//EN
CALSCALE:GREGORIAN
METHOD:PUBLISH
X-WR-CALNAME:Galway Rotary Club
X-ORIGINAL-URL:https://galwayrotary.org
X-WR-CALDESC:Events for Galway Rotary Club
REFRESH-INTERVAL;VALUE=DURATION:PT1H
X-Robots-Tag:noindex
X-PUBLISHED-TTL:PT1H
BEGIN:VTIMEZONE
TZID:America/New_York
BEGIN:DAYLIGHT
TZOFFSETFROM:-0500
TZOFFSETTO:-0400
TZNAME:EDT
DTSTART:20210314T070000
END:DAYLIGHT
BEGIN:STANDARD
TZOFFSETFROM:-0400
TZOFFSETTO:-0500
TZNAME:EST
DTSTART:20211107T060000
END:STANDARD
BEGIN:DAYLIGHT
TZOFFSETFROM:-0500
TZOFFSETTO:-0400
TZNAME:EDT
DTSTART:20220313T070000
END:DAYLIGHT
BEGIN:STANDARD
TZOFFSETFROM:-0400
TZOFFSETTO:-0500
TZNAME:EST
DTSTART:20221106T060000
END:STANDARD
BEGIN:DAYLIGHT
TZOFFSETFROM:-0500
TZOFFSETTO:-0400
TZNAME:EDT
DTSTART:20230312T070000
END:DAYLIGHT
BEGIN:STANDARD
TZOFFSETFROM:-0400
TZOFFSETTO:-0500
TZNAME:EST
DTSTART:20231105T060000
END:STANDARD
END:VTIMEZONE
BEGIN:VEVENT
DTSTART;TZID=America/New_York:20220601T180000
DTEND;TZID=America/New_York:20220601T200000
DTSTAMP:20260421T012402
CREATED:20220407T195939Z
LAST-MODIFIED:20220415T183432Z
UID:128-1654106400-1654113600@galwayrotary.org
SUMMARY:Networking Event
DESCRIPTION:Meet Your Neighbors & Make New connections \nYour neighbors are forming a Rotary Club in Galway. \nWe have already worked in the Food Pantry\, and are looking forward to getting more involved. \nEnter to win a wine & cheese board. RSVP and we’ll give you an extra entry! \nRSVP with this form or by calling or texting 518-369-0407 \n[contact-form-7 id=”4″ title=”RSVP”]
URL:https://galwayrotary.org/event/networking-event/
LOCATION:Galway Town Hall\, 5910 Sacandaga Rd\, Galway\, NY\, 12074\, United States
CATEGORIES:community event
ATTACH;FMTTYPE=image/png:https://galwayrotary.org/wp-content/uploads/2022/04/networking-event-graphic.png
END:VEVENT
END:VCALENDAR