BEGIN:VCALENDAR
VERSION:2.0
PRODID:-//Galway Rotary Club - ECPv6.15.20//NONSGML v1.0//EN
CALSCALE:GREGORIAN
METHOD:PUBLISH
X-WR-CALNAME:Galway Rotary Club
X-ORIGINAL-URL:https://galwayrotary.org
X-WR-CALDESC:Events for Galway Rotary Club
REFRESH-INTERVAL;VALUE=DURATION:PT1H
X-Robots-Tag:noindex
X-PUBLISHED-TTL:PT1H
BEGIN:VTIMEZONE
TZID:America/New_York
BEGIN:DAYLIGHT
TZOFFSETFROM:-0500
TZOFFSETTO:-0400
TZNAME:EDT
DTSTART:20210314T070000
END:DAYLIGHT
BEGIN:STANDARD
TZOFFSETFROM:-0400
TZOFFSETTO:-0500
TZNAME:EST
DTSTART:20211107T060000
END:STANDARD
BEGIN:DAYLIGHT
TZOFFSETFROM:-0500
TZOFFSETTO:-0400
TZNAME:EDT
DTSTART:20220313T070000
END:DAYLIGHT
BEGIN:STANDARD
TZOFFSETFROM:-0400
TZOFFSETTO:-0500
TZNAME:EST
DTSTART:20221106T060000
END:STANDARD
BEGIN:DAYLIGHT
TZOFFSETFROM:-0500
TZOFFSETTO:-0400
TZNAME:EDT
DTSTART:20230312T070000
END:DAYLIGHT
BEGIN:STANDARD
TZOFFSETFROM:-0400
TZOFFSETTO:-0500
TZNAME:EST
DTSTART:20231105T060000
END:STANDARD
END:VTIMEZONE
BEGIN:VEVENT
DTSTART;TZID=America/New_York:20220730T080000
DTEND;TZID=America/New_York:20221001T170000
DTSTAMP:20260420T191030
CREATED:20220805T202727Z
LAST-MODIFIED:20220805T202751Z
UID:195-1659168000-1664643600@galwayrotary.org
SUMMARY:Yeti Raffle
DESCRIPTION:Want tickets? Email the GalwayNYRotary@Gmail.com
URL:https://galwayrotary.org/event/yeti-raffle/
LOCATION:NY
CATEGORIES:community event
ATTACH;FMTTYPE=image/png:https://galwayrotary.org/wp-content/uploads/2022/07/Yeti-Set-Drink.png
END:VEVENT
BEGIN:VEVENT
DTSTART;TZID=America/New_York:20221005T190000
DTEND;TZID=America/New_York:20221005T203000
DTSTAMP:20260420T191030
CREATED:20220805T202413Z
LAST-MODIFIED:20220927T184522Z
UID:189-1664996400-1665001800@galwayrotary.org
SUMMARY:October Rotary Meeting
DESCRIPTION:
URL:https://galwayrotary.org/event/october-rotary-meeting/
LOCATION:Galway Town Hall\, 5910 Sacandaga Rd\, Galway\, NY\, 12074\, United States
CATEGORIES:meeting
ATTACH;FMTTYPE=image/png:https://galwayrotary.org/wp-content/uploads/2022/08/galway-rotary-invite2.png
END:VEVENT
BEGIN:VEVENT
DTSTART;TZID=America/New_York:20221029T100000
DTEND;TZID=America/New_York:20221029T160000
DTSTAMP:20260420T191030
CREATED:20220805T202251Z
LAST-MODIFIED:20220927T185020Z
UID:187-1667037600-1667059200@galwayrotary.org
SUMMARY:Galway Fall Festival & Trick or Treat
DESCRIPTION:From the Town’s Website: \nFall and Halloween Festival\nOctober 29 @ 10:00 am – 4:00 pm\nAll are invited to celebrate fall with the Galway Town Fall Festival and Halloween event! Think all things fall! Cider\, donuts\, pumpkins\, costume and pumpkin decorating contests\, seasonal baked goods\, local vendors and organizations will be adding to our hometown feel. This will be held at the Dockstader field\, 5078 Sacandaga Road\, Galway on October 29th. \nFestivities will begin at 10 am and Trick or Treating will be from 1-4. \nJoin in for food\, friends and fun! More details to come.
URL:https://galwayrotary.org/event/trick-or-treat/
LOCATION:Dockstader Recreation Park\, NY-147\, Galway\, NY\, 12074\, United States
CATEGORIES:community event
ATTACH;FMTTYPE=image/jpeg:https://galwayrotary.org/wp-content/uploads/2022/08/fall-festival.jpg
END:VEVENT
END:VCALENDAR