BEGIN:VCALENDAR
VERSION:2.0
PRODID:-//Galway Rotary Club - ECPv6.15.20//NONSGML v1.0//EN
CALSCALE:GREGORIAN
METHOD:PUBLISH
X-WR-CALNAME:Galway Rotary Club
X-ORIGINAL-URL:https://galwayrotary.org
X-WR-CALDESC:Events for Galway Rotary Club
REFRESH-INTERVAL;VALUE=DURATION:PT1H
X-Robots-Tag:noindex
X-PUBLISHED-TTL:PT1H
BEGIN:VTIMEZONE
TZID:America/New_York
BEGIN:DAYLIGHT
TZOFFSETFROM:-0500
TZOFFSETTO:-0400
TZNAME:EDT
DTSTART:20220313T070000
END:DAYLIGHT
BEGIN:STANDARD
TZOFFSETFROM:-0400
TZOFFSETTO:-0500
TZNAME:EST
DTSTART:20221106T060000
END:STANDARD
BEGIN:DAYLIGHT
TZOFFSETFROM:-0500
TZOFFSETTO:-0400
TZNAME:EDT
DTSTART:20230312T070000
END:DAYLIGHT
BEGIN:STANDARD
TZOFFSETFROM:-0400
TZOFFSETTO:-0500
TZNAME:EST
DTSTART:20231105T060000
END:STANDARD
BEGIN:DAYLIGHT
TZOFFSETFROM:-0500
TZOFFSETTO:-0400
TZNAME:EDT
DTSTART:20240310T070000
END:DAYLIGHT
BEGIN:STANDARD
TZOFFSETFROM:-0400
TZOFFSETTO:-0500
TZNAME:EST
DTSTART:20241103T060000
END:STANDARD
END:VTIMEZONE
BEGIN:VEVENT
DTSTART;TZID=America/New_York:20230301T190000
DTEND;TZID=America/New_York:20230301T203000
DTSTAMP:20260420T100837
CREATED:20221103T151732Z
LAST-MODIFIED:20221103T151732Z
UID:244-1677697200-1677702600@galwayrotary.org
SUMMARY:March Rotary Meeting
DESCRIPTION:
URL:https://galwayrotary.org/event/march-rotary-meeting/
LOCATION:Galway Town Hall\, 5910 Sacandaga Rd\, Galway\, NY\, 12074\, United States
CATEGORIES:meeting
ATTACH;FMTTYPE=image/png:https://galwayrotary.org/wp-content/uploads/2022/08/galway-rotary-invite2.png
END:VEVENT
BEGIN:VEVENT
DTSTART;TZID=America/New_York:20230315T180000
DTEND;TZID=America/New_York:20230315T200000
DTSTAMP:20260420T100837
CREATED:20221103T153008Z
LAST-MODIFIED:20230314T194720Z
UID:246-1678903200-1678910400@galwayrotary.org
SUMMARY:March - Networking Event
DESCRIPTION:Meet your neighbors and fellow business owners at the 2nd Galway Networking Event \nMarch 15\, 6-8 pm \nGalway Firehouse\n1985 West St.\nGalway\, NY 12074 \nThere is no charge to attend\, but please RSVP for the food count \n[contact-form-7 id=”4″ title=”RSVP”]
URL:https://galwayrotary.org/event/march-networking-event/
LOCATION:Galway Firehouse\, Galway Firehouse 1985 West S\, Galway\, NY\, 12074\, United States
CATEGORIES:community event
ATTACH;FMTTYPE=image/png:https://galwayrotary.org/wp-content/uploads/2022/11/Networking-Event-Flyer-Portrait.png
END:VEVENT
BEGIN:VEVENT
DTSTART;TZID=America/New_York:20230321T190000
DTEND;TZID=America/New_York:20230321T200000
DTSTAMP:20260420T100837
CREATED:20230316T125218Z
LAST-MODIFIED:20230316T125218Z
UID:318-1679425200-1679428800@galwayrotary.org
SUMMARY:Town Plan Update
DESCRIPTION:
URL:https://galwayrotary.org/event/town-plan-update/
LOCATION:Galway Town Hall\, 5910 Sacandaga Rd\, Galway\, NY\, 12074\, United States
CATEGORIES:community event
ATTACH;FMTTYPE=image/jpeg:https://galwayrotary.org/wp-content/uploads/2023/03/town-plan-update.jpg
END:VEVENT
END:VCALENDAR