BEGIN:VCALENDAR
VERSION:2.0
PRODID:-//Galway Rotary Club - ECPv6.15.20//NONSGML v1.0//EN
CALSCALE:GREGORIAN
METHOD:PUBLISH
X-ORIGINAL-URL:https://galwayrotary.org
X-WR-CALDESC:Events for Galway Rotary Club
REFRESH-INTERVAL;VALUE=DURATION:PT1H
X-Robots-Tag:noindex
X-PUBLISHED-TTL:PT1H
BEGIN:VTIMEZONE
TZID:America/New_York
BEGIN:DAYLIGHT
TZOFFSETFROM:-0500
TZOFFSETTO:-0400
TZNAME:EDT
DTSTART:20220313T070000
END:DAYLIGHT
BEGIN:STANDARD
TZOFFSETFROM:-0400
TZOFFSETTO:-0500
TZNAME:EST
DTSTART:20221106T060000
END:STANDARD
BEGIN:DAYLIGHT
TZOFFSETFROM:-0500
TZOFFSETTO:-0400
TZNAME:EDT
DTSTART:20230312T070000
END:DAYLIGHT
BEGIN:STANDARD
TZOFFSETFROM:-0400
TZOFFSETTO:-0500
TZNAME:EST
DTSTART:20231105T060000
END:STANDARD
BEGIN:DAYLIGHT
TZOFFSETFROM:-0500
TZOFFSETTO:-0400
TZNAME:EDT
DTSTART:20240310T070000
END:DAYLIGHT
BEGIN:STANDARD
TZOFFSETFROM:-0400
TZOFFSETTO:-0500
TZNAME:EST
DTSTART:20241103T060000
END:STANDARD
END:VTIMEZONE
BEGIN:VEVENT
DTSTART;TZID=America/New_York:20230706T180000
DTEND;TZID=America/New_York:20230706T210000
DTSTAMP:20260420T024841
CREATED:20230510T121233Z
LAST-MODIFIED:20230510T121233Z
UID:348-1688666400-1688677200@galwayrotary.org
SUMMARY:District Changeover Celebration
DESCRIPTION:Wolf Hollow Brewing Company \n6882 Amsterdam Rd. Schenectady\, NY 12302 \nFamily Friendly celebration of the installation of the new club presidents and district officers \nFood Truck: Two for the Road \nCotton Candy by Galway Rotary
URL:https://galwayrotary.org/event/district-changeover-celebration/
LOCATION:Wolf Hollow Brewing Company\, 6882 Amsterdam Rd\, Schenectady\, NY\, 12302\, United States
CATEGORIES:Rotary Event
END:VEVENT
BEGIN:VEVENT
DTSTART;TZID=America/New_York:20230712T190000
DTEND;TZID=America/New_York:20230712T200000
DTSTAMP:20260420T024841
CREATED:20230315T181713Z
LAST-MODIFIED:20230515T235454Z
UID:271-1689188400-1689192000@galwayrotary.org
SUMMARY:July  Meeting
DESCRIPTION:Tentative – we may reschedule due to the holiday
URL:https://galwayrotary.org/event/july-meeting/
LOCATION:Galway Town Hall\, 5910 Sacandaga Rd\, Galway\, NY\, 12074\, United States
CATEGORIES:meeting
END:VEVENT
BEGIN:VEVENT
DTSTART;TZID=America/New_York:20230729T090000
DTEND;TZID=America/New_York:20230729T140000
DTSTAMP:20260420T024841
CREATED:20230315T183038Z
LAST-MODIFIED:20230510T120957Z
UID:273-1690621200-1690639200@galwayrotary.org
SUMMARY:Galway Blueberry Festival
DESCRIPTION:Join us for this fabulous family event! \nWe will be selling Cotton Candy and some goodies!
URL:https://galwayrotary.org/event/galway-blueberry-festival/
LOCATION:Docksider Field\, 5078 Sacandaga Road\, Galway\, NY\, United States
CATEGORIES:community event
ATTACH;FMTTYPE=image/jpeg:https://galwayrotary.org/wp-content/uploads/2023/03/blueberry-festival.jpg
END:VEVENT
END:VCALENDAR