BEGIN:VCALENDAR
VERSION:2.0
PRODID:-//Galway Rotary Club - ECPv6.15.20//NONSGML v1.0//EN
CALSCALE:GREGORIAN
METHOD:PUBLISH
X-ORIGINAL-URL:https://galwayrotary.org
X-WR-CALDESC:Events for Galway Rotary Club
REFRESH-INTERVAL;VALUE=DURATION:PT1H
X-Robots-Tag:noindex
X-PUBLISHED-TTL:PT1H
BEGIN:VTIMEZONE
TZID:America/New_York
BEGIN:DAYLIGHT
TZOFFSETFROM:-0500
TZOFFSETTO:-0400
TZNAME:EDT
DTSTART:20220313T070000
END:DAYLIGHT
BEGIN:STANDARD
TZOFFSETFROM:-0400
TZOFFSETTO:-0500
TZNAME:EST
DTSTART:20221106T060000
END:STANDARD
BEGIN:DAYLIGHT
TZOFFSETFROM:-0500
TZOFFSETTO:-0400
TZNAME:EDT
DTSTART:20230312T070000
END:DAYLIGHT
BEGIN:STANDARD
TZOFFSETFROM:-0400
TZOFFSETTO:-0500
TZNAME:EST
DTSTART:20231105T060000
END:STANDARD
BEGIN:DAYLIGHT
TZOFFSETFROM:-0500
TZOFFSETTO:-0400
TZNAME:EDT
DTSTART:20240310T070000
END:DAYLIGHT
BEGIN:STANDARD
TZOFFSETFROM:-0400
TZOFFSETTO:-0500
TZNAME:EST
DTSTART:20241103T060000
END:STANDARD
END:VTIMEZONE
BEGIN:VEVENT
DTSTART;TZID=America/New_York:20230906T190000
DTEND;TZID=America/New_York:20230906T200000
DTSTAMP:20260419T233721
CREATED:20230712T124553Z
LAST-MODIFIED:20230712T124553Z
UID:397-1694026800-1694030400@galwayrotary.org
SUMMARY:September 2023 Meeting
DESCRIPTION:
URL:https://galwayrotary.org/event/september-2023-meeting/
LOCATION:Galway Town Hall\, 5910 Sacandaga Rd\, Galway\, NY\, 12074\, United States
CATEGORIES:meeting
END:VEVENT
BEGIN:VEVENT
DTSTART;TZID=America/New_York:20230930T080000
DTEND;TZID=America/New_York:20230930T170000
DTSTAMP:20260419T233721
CREATED:20230712T130730Z
LAST-MODIFIED:20230712T130730Z
UID:401-1696060800-1696093200@galwayrotary.org
SUMMARY:Glenville Oktoberfest
DESCRIPTION:Join us for some serious cotton candy making at the annual Oktoberfest \nThe German band lineup for 2023 will feature Gregory and The Brauhaus Band (Main Biergarten at 12 Noon)\, Herbie and His Accord-a-Tones (WHBC Biergarten at 5 pm) and our new headliner — Bavarski (Main Biergarten at 4pm)!
URL:https://galwayrotary.org/event/glenville-oktoberfest/
LOCATION:Maalwyck Park\, Route 5\, Glenville\, NY\, United States
CATEGORIES:community event
ATTACH;FMTTYPE=image/jpeg:https://galwayrotary.org/wp-content/uploads/2023/07/glenville-oktoberfest.jpg
END:VEVENT
END:VCALENDAR